BEGIN:VCALENDAR
VERSION:2.0
PRODID:-//hacksw/handcal//NONSGML v1.0//EN
BEGIN:VEVENT
SUMMARY:Conference/debat
UID:0e84a22a-b4e7-4787-ba9b-80cc65b7bea2
DTSTART:20260403T150000Z
DTEND:20260403T220000Z
LOCATION:Localisation 12 rue mougel bey  la bresse
CATEGORIES:Festif
STATUS:
URL;VALUE=URI:https://www.lesamisduhohneck.fr/evenements/2026/04/03/conferencedebat-2435178
END:VEVENT
END:VCALENDAR
